BEGIN:VCALENDAR
VERSION:2.0
PRODID:icalendar-ruby
CALSCALE:GREGORIAN
METHOD:PUBLISH
BEGIN:VEVENT
DTSTAMP:20260420T144204Z
UID:19-1305328@sptbc.com
DTSTART:20260613T223000Z
DTEND:20260618T003000Z
CLASS:PUBLIC
CREATED:20260413T074027
DESCRIPTION:
LAST-MODIFIED:20260413T074027
LOCATION:40 Tomahawk Lane\, Stony Point NC 28678
SUMMARY:Vacation Bible School
URL;VALUE=URI:https://www.sptbc.com/events/vacation-bible-school/2026-06-13
ATTACH;FILENAME=VBS-2026.png;FMTTYPE=image/png:https://dq5pwpg1q8ru0.cloudf
 ront.net/2026/04/13/11/40/26/b4257d8c-6872-4987-9cee-e65df92c68f5/VBS-2026
 .png
END:VEVENT
END:VCALENDAR
